BEGIN:VCALENDAR
VERSION:2.0
PRODID:-//Kirchheimer Musikanten - ECPv6.10.1//NONSGML v1.0//EN
CALSCALE:GREGORIAN
METHOD:PUBLISH
X-WR-CALNAME:Kirchheimer Musikanten
X-ORIGINAL-URL:http://kirchheimer-musikanten.de
X-WR-CALDESC:Veranstaltungen für Kirchheimer Musikanten
REFRESH-INTERVAL;VALUE=DURATION:PT1H
X-Robots-Tag:noindex
X-PUBLISHED-TTL:PT1H
BEGIN:VTIMEZONE
TZID:Europe/Berlin
BEGIN:DAYLIGHT
TZOFFSETFROM:+0100
TZOFFSETTO:+0200
TZNAME:CEST
DTSTART:20260329T010000
END:DAYLIGHT
BEGIN:STANDARD
TZOFFSETFROM:+0200
TZOFFSETTO:+0100
TZNAME:CET
DTSTART:20261025T010000
END:STANDARD
END:VTIMEZONE
BEGIN:VEVENT
DTSTART;TZID=Europe/Berlin:20260501T060000
DTEND;TZID=Europe/Berlin:20260501T063000
DTSTAMP:20260421T011215
CREATED:20260319T075321Z
LAST-MODIFIED:20260319T075321Z
UID:1370-1777615200-1777617000@kirchheimer-musikanten.de
SUMMARY:Traditionenlles Maiblasen
DESCRIPTION:
URL:http://kirchheimer-musikanten.de/termine/traditionenlles-maiblasen/
LOCATION:Kirchheim
END:VEVENT
END:VCALENDAR