BEGIN:VCALENDAR
VERSION:2.0
PRODID:-//Kirchheimer Musikanten - ECPv6.10.1//NONSGML v1.0//EN
CALSCALE:GREGORIAN
METHOD:PUBLISH
X-ORIGINAL-URL:http://kirchheimer-musikanten.de
X-WR-CALDESC:Veranstaltungen für Kirchheimer Musikanten
REFRESH-INTERVAL;VALUE=DURATION:PT1H
X-Robots-Tag:noindex
X-PUBLISHED-TTL:PT1H
BEGIN:VTIMEZONE
TZID:Europe/Berlin
BEGIN:DAYLIGHT
TZOFFSETFROM:+0100
TZOFFSETTO:+0200
TZNAME:CEST
DTSTART:20250330T010000
END:DAYLIGHT
BEGIN:STANDARD
TZOFFSETFROM:+0200
TZOFFSETTO:+0100
TZNAME:CET
DTSTART:20251026T010000
END:STANDARD
END:VTIMEZONE
BEGIN:VEVENT
DTSTART;TZID=Europe/Berlin:20250705T120000
DTEND;TZID=Europe/Berlin:20250705T140000
DTSTAMP:20260421T171020
CREATED:20250212T061845Z
LAST-MODIFIED:20250212T061845Z
UID:1279-1751716800-1751724000@kirchheimer-musikanten.de
SUMMARY:Kiliani-Festzug
DESCRIPTION:
URL:http://kirchheimer-musikanten.de/termine/kiliani-festzug-3/
LOCATION:Würzburg
END:VEVENT
BEGIN:VEVENT
DTSTART;TZID=Europe/Berlin:20250706T170000
DTEND;TZID=Europe/Berlin:20250706T210000
DTSTAMP:20260421T171020
CREATED:20250212T061934Z
LAST-MODIFIED:20250212T061934Z
UID:1281-1751821200-1751835600@kirchheimer-musikanten.de
SUMMARY:Pfarrfest Kirchheim
DESCRIPTION:
URL:http://kirchheimer-musikanten.de/termine/pfarrfest-kirchheim-2/
LOCATION:Pfarrheim Kirchheim
END:VEVENT
BEGIN:VEVENT
DTSTART;TZID=Europe/Berlin:20250726T180000
DTEND;TZID=Europe/Berlin:20250726T230000
DTSTAMP:20260421T171020
CREATED:20250212T062113Z
LAST-MODIFIED:20250212T062113Z
UID:1283-1753552800-1753570800@kirchheimer-musikanten.de
SUMMARY:Altstadtfest Wertheim
DESCRIPTION:
URL:http://kirchheimer-musikanten.de/termine/altstadtfest-wertheim/
LOCATION:Wertheim
END:VEVENT
END:VCALENDAR