BEGIN:VCALENDAR
VERSION:2.0
PRODID:-//Kirchheimer Musikanten - ECPv6.10.1//NONSGML v1.0//EN
CALSCALE:GREGORIAN
METHOD:PUBLISH
X-ORIGINAL-URL:http://kirchheimer-musikanten.de
X-WR-CALDESC:Veranstaltungen für Kirchheimer Musikanten
REFRESH-INTERVAL;VALUE=DURATION:PT1H
X-Robots-Tag:noindex
X-PUBLISHED-TTL:PT1H
BEGIN:VTIMEZONE
TZID:Europe/Berlin
BEGIN:DAYLIGHT
TZOFFSETFROM:+0100
TZOFFSETTO:+0200
TZNAME:CEST
DTSTART:20260329T010000
END:DAYLIGHT
BEGIN:STANDARD
TZOFFSETFROM:+0200
TZOFFSETTO:+0100
TZNAME:CET
DTSTART:20261025T010000
END:STANDARD
END:VTIMEZONE
BEGIN:VEVENT
DTSTART;TZID=Europe/Berlin:20260426T180000
DTEND;TZID=Europe/Berlin:20260426T200000
DTSTAMP:20260420T225600
CREATED:20260319T072353Z
LAST-MODIFIED:20260328T181459Z
UID:1365-1777226400-1777233600@kirchheimer-musikanten.de
SUMMARY:Frühjahrskonzert
DESCRIPTION:
URL:http://kirchheimer-musikanten.de/termine/fruehjahrskonzert-2/
LOCATION:Turnhalle Kirchheim
END:VEVENT
BEGIN:VEVENT
DTSTART;TZID=Europe/Berlin:20260430T180000
DTEND;TZID=Europe/Berlin:20260430T190000
DTSTAMP:20260420T225600
CREATED:20260319T072503Z
LAST-MODIFIED:20260319T072503Z
UID:1367-1777572000-1777575600@kirchheimer-musikanten.de
SUMMARY:Maibaumaufstellung Kirchheim
DESCRIPTION:
URL:http://kirchheimer-musikanten.de/termine/maibaumaufstellung-kirchheim/
LOCATION:Kirchheim
END:VEVENT
END:VCALENDAR